BEGIN:VCALENDAR
VERSION:2.0
PRODID:-//ChamberMaster//Event Calendar 2.0//EN
METHOD:PUBLISH
X-PUBLISHED-TTL:P3D
REFRESH-INTERVAL:P3D
CALSCALE:GREGORIAN
BEGIN:VEVENT
DTSTART:20251121T223000Z
DTEND:20251121T233000Z
X-MICROSOFT-CDO-ALLDAYEVENT:FALSE
SUMMARY:Young Entrepreneur Bursary Celebration
DESCRIPTION:Join us as we celebrate three incredible local young entrepreneurs who have each been recognized with the Young Entrepreneur Bursary in partnership with the Saskatchewan Chamber of Commerce and the funded by the Government of Saskatchewan!\n\n\n\nThese outstanding young business owners represent the future of our business community   driven\, innovative\, and passionate about making a difference right here in Swift Current.\n\n\n\nCome show your support\, network with other community members\, and be inspired by the entrepreneurial spirit that thrives in our city. \n\n\n\nLet's celebrate the next generation of business leaders together!\n\n\n\nMataya Doerkson - Hitched Haven Rentals & D cor\n\nSean Martens - Evolve Fitness\n\nSloane Gowan\, Flatland Foods
X-ALT-DESC;FMTTYPE=text/html:Join us as we celebrate three incredible local young entrepreneurs who have each been recognized with the Young Entrepreneur Bursary in partnership with the Saskatchewan Chamber of Commerce and the funded by the Government of Saskatchewan!<br />\n<br />\nThese outstanding young business owners represent the future of our business community &mdash\; driven\, innovative\, and passionate about making a difference right here in Swift Current.<br />\n<br />\nCome show your support\, network with other community members\, and be inspired by the entrepreneurial spirit that thrives in our city.&nbsp\;<br />\n<br />\nLet&#39\;s celebrate the next generation of business leaders together!<br />\n<br />\nMataya Doerkson - Hitched Haven Rentals &amp\; D&eacute\;cor<br />\nSean Martens - Evolve Fitness<br />\nSloane Gowan\, Flatland Foods
LOCATION:Raccolto 278 1st Ave NE Swift Current\, SK
UID:e.2016.3802
SEQUENCE:3
DTSTAMP:20260423T134118Z
URL:http://business.swiftcurrentchamber.ca/events/details/young-entrepreneur-bursary-celebration-3802
END:VEVENT

END:VCALENDAR
