BEGIN:VCALENDAR
VERSION:2.0
PRODID:-//ChamberMaster//Event Calendar 2.0//EN
METHOD:PUBLISH
X-PUBLISHED-TTL:P3D
REFRESH-INTERVAL:P3D
CALSCALE:GREGORIAN
BEGIN:VEVENT
DTSTART:20190618T233000Z
DTEND:20190619T030000Z
X-MICROSOFT-CDO-ALLDAYEVENT:FALSE
SUMMARY:Wing Night for Swift Current SPCA - Radiothon Kickoff
DESCRIPTION:We had so much fun at our last Wing Night that we're doing it again! Join us as we gear up for this year's SPCA Radiothon with a fun night of wings and draft\, 50/50 and raffle tickets\, and a chance to make your donation to the Radiothon. $20 ticket get you a pound of wings (choice of flavour) and a pint of draft or pop. Tickets available at the SPCA Shelter and at Pharmasave.
X-ALT-DESC;FMTTYPE=text/html:<div>We had so much fun at our last Wing Night that we&#39\;re doing it again! Join us as we gear up for this year&#39\;s SPCA Radiothon with a fun night of wings and draft\, 50/50 and raffle tickets\, and a chance to make your donation to the Radiothon. $20 ticket get you a pound of wings (choice of flavour) and a pint of draft or pop. Tickets available at the SPCA Shelter and at Pharmasave.</div>\n
LOCATION:Buffalo Brew Pub 278 1st Ave NE Swift Current
UID:e.2016.3474
SEQUENCE:3
DTSTAMP:20260424T044043Z
URL:http://business.swiftcurrentchamber.ca/events/details/wing-night-for-swift-current-spca-radiothon-kickoff-3474
END:VEVENT

END:VCALENDAR
