BEGIN:VCALENDAR
VERSION:2.0
PRODID:-//ChamberMaster//Event Calendar 2.0//EN
METHOD:PUBLISH
X-PUBLISHED-TTL:P3D
REFRESH-INTERVAL:P3D
CALSCALE:GREGORIAN
BEGIN:VEVENT
DTSTART:20190129T233000Z
DTEND:20190130T030000Z
X-MICROSOFT-CDO-ALLDAYEVENT:FALSE
SUMMARY:Wing Night for SPCA Hope Fund
DESCRIPTION:Grab a bite and a brew with friends and help out the local SPCA's "Hope Fund". $20 ticket gets you a pound of wings and a pint of draft and you also help support homeless pets with extraordinary medical costs. A relaxed evening - just drop in or stay as long as you like!\n\nTickets available at the SPCA Shelter\, Pharmasave or by emailing teresa@spcaswiftcurrent.com.
X-ALT-DESC;FMTTYPE=text/html:<div>Grab a bite and a brew with friends and help out the local SPCA&#39\;s &quot\;Hope Fund&quot\;. $20 ticket gets you a pound of wings and a pint of draft and you also help support homeless pets with extraordinary medical costs. A relaxed evening - just drop in or stay as long as you like!<br />\nTickets available at the SPCA Shelter\, Pharmasave or by emailing teresa@spcaswiftcurrent.com.</div>\n
LOCATION:Buffalo Brew Pub
UID:e.2016.3455
SEQUENCE:3
DTSTAMP:20260425T220722Z
URL:http://business.swiftcurrentchamber.ca/events/details/wing-night-for-spca-hope-fund-3455
END:VEVENT

END:VCALENDAR
