BEGIN:VCALENDAR
VERSION:2.0
PRODID:-//ChamberMaster//Event Calendar 2.0//EN
METHOD:PUBLISH
X-PUBLISHED-TTL:P3D
REFRESH-INTERVAL:P3D
CALSCALE:GREGORIAN
BEGIN:VEVENT
DTSTART:20190907T233000Z
DTEND:20190908T043000Z
X-MICROSOFT-CDO-ALLDAYEVENT:FALSE
SUMMARY:Taking it to the Streets 2019
DESCRIPTION:This is a family friendly free event to the whole community! Bring your lawn chairs and enjoy music from Craig Moritz\, Trevor Panczak and the Juno winning Nick Gilder and Sweeney Todd.
X-ALT-DESC;FMTTYPE=text/html:This is a family friendly free event to the whole community! Bring your lawn chairs and enjoy music from Craig Moritz\, Trevor Panczak and the Juno winning Nick Gilder and Sweeney Todd.
LOCATION:I Memorial Park
UID:e.2016.3481
SEQUENCE:3
DTSTAMP:20260423T180259Z
URL:http://business.swiftcurrentchamber.ca/events/details/taking-it-to-the-streets-2019-3481
END:VEVENT

END:VCALENDAR
