BEGIN:VCALENDAR
VERSION:2.0
PRODID:-//ChamberMaster//Event Calendar 2.0//EN
METHOD:PUBLISH
X-PUBLISHED-TTL:P3D
REFRESH-INTERVAL:P3D
CALSCALE:GREGORIAN
BEGIN:VEVENT
DTSTART:20190308T180000Z
DTEND:20190310T180000Z
X-MICROSOFT-CDO-ALLDAYEVENT:FALSE
SUMMARY:Step into Spring Home & Leisure Trade show
DESCRIPTION:
X-ALT-DESC;FMTTYPE=text/html:
LOCATION:
UID:e.2016.3445
SEQUENCE:3
DTSTAMP:20260424T065550Z
URL:http://business.swiftcurrentchamber.ca/events/details/step-into-spring-home-leisure-trade-show-3445
END:VEVENT

END:VCALENDAR
