BEGIN:VCALENDAR
VERSION:2.0
PRODID:-//ChamberMaster//Event Calendar 2.0//EN
METHOD:PUBLISH
X-PUBLISHED-TTL:P3D
REFRESH-INTERVAL:P3D
CALSCALE:GREGORIAN
BEGIN:VEVENT
DTSTART:20190911T170000Z
DTEND:20190911T190000Z
X-MICROSOFT-CDO-ALLDAYEVENT:FALSE
SUMMARY:Smart Services for Business
DESCRIPTION:Go beyond keeping your data safe and secure. Smart Services from SaskTel delivers fully managed network security and Wi-Fi solutions for your business. Join us with Cisco Meraki to learn how Smart Network\n\nFirewall and Smart Wi-Fi will protect your data\, help you make informed business decisions\, and improve employee and customer experience.\n\n\n\nDon't miss out on this exciting opportunity Space is limited.  RSVP today!\n\nwww.sasktel.com/customerevents
X-ALT-DESC;FMTTYPE=text/html:Go beyond keeping your data safe and secure. Smart Services from SaskTel delivers fully managed network&nbsp\;security and Wi-Fi solutions for your business. Join us&nbsp\;with Cisco Meraki to learn how Smart Network<br />\nFirewall and Smart Wi-Fi will protect your data\, help&nbsp\;you make informed business decisions\, and improve&nbsp\;employee and customer experience.<br />\n<br />\nDon&#39\;t miss out on this exciting opportunity Space is limited.&nbsp\; RSVP today!<br />\n<a href="http://www.sasktel.com/customerevents"><span style="color:#0000FF\;"><u><strong>www.sasktel.com/customerevents</strong></u></span></a>
LOCATION:Coast Hotels 905 North Service Rd E
UID:e.2016.3489
SEQUENCE:3
DTSTAMP:20260425T111419Z
URL:http://business.swiftcurrentchamber.ca/events/details/smart-services-for-business-3489
END:VEVENT

END:VCALENDAR
