BEGIN:VCALENDAR
VERSION:2.0
PRODID:-//ChamberMaster//Event Calendar 2.0//EN
METHOD:PUBLISH
X-PUBLISHED-TTL:P3D
REFRESH-INTERVAL:P3D
CALSCALE:GREGORIAN
BEGIN:VEVENT
DTSTART:20191025T233000Z
DTEND:20191026T040000Z
X-MICROSOFT-CDO-ALLDAYEVENT:FALSE
SUMMARY:SCBEX
DESCRIPTION:This year marks the 21st annual SCBEX Awards.\n\nThe SCBEX - Spirit of Swift Current awards shine some light on the great innovative things happening in the business community and honours business and not-for-profit organizations in Swift Current that have contributed to the vibrancy of our city through their innovation and entrepreneurship.\n\n \n\nComplete list of nominees click HERE!\n\n \n\nNot-for-Profit Award Class - sponsored by YQR Regina Airport Authority\n\nStart-Up/New Business Award Class - sponsored by Innovation Credit Union\n\nSmall Business Award Class - sponsored by MNP LLP\n\nMedium Business Award Class - sponsored by S3 Enterprises\n\nLarge Business Award Class - sponsored by SaskTel\n\nHall of Fame Inductees - sponsored by the City of Swift Current & the R.M. of Swift Current No. 137\n\nEmployer of Person(s) with Disabilities - sponsored by Partners in Employment\n\n\n\nHome Based Business - sponsored by The Co-operators\n\n\n\n2018 Member Business of the Year - sponsored by the RBC Royal Bank \n\n\n\nCitizen of the Year - co-sponsored by Sign Here & Community Futures Southwest
X-ALT-DESC;FMTTYPE=text/html:<p class="p1">This year marks the 21st annual SCBEX Awards.</p>\n\n<p class="p1">The SCBEX - Spirit of Swift Current awards shine some light on the great innovative things happening in the business community and honours business and not-for-profit organizations in Swift Current that have contributed to the vibrancy of our city through their innovation and entrepreneurship.<br />\n&nbsp\;</p>\n\n<p class="p2"><span style="font-size:18px\;"><strong>Complete list of nominees&nbsp\;<a href="https://chambermaster.blob.core.windows.net/userfiles/UserFiles/chambers/2016/CMS/Nominees-publication(1).pdf">click HERE!</a></strong></span><br />\n&nbsp\;</p>\n\n<p class="p1"><span class="s1"><b>Not-for-Profit Award Class</b></span>&nbsp\;- sponsored by YQR Regina Airport Authority</p>\n\n<p class="p1"><span class="s1"><b>Start-Up/New Business Award Class</b></span> - sponsored by Innovation Credit Union</p>\n\n<p class="p1"><span class="s1"><b>Small Business Award Class</b></span> - sponsored by MNP LLP</p>\n\n<p class="p1"><span class="s1"><b>Medium Business Award Class</b></span> - sponsored by S3 Enterprises</p>\n\n<p class="p1"><span class="s1"><b>Large Business Award Class</b></span> - sponsored by SaskTel</p>\n\n<p class="p1"><span class="s1"><b>Hall of Fame Inductees</b></span>&nbsp\;- sponsored by the City of Swift Current &amp\; the R.M. of Swift Current No.&nbsp\;137</p>\n\n<p class="p1"><span class="s1"><strong>Employer of Person(s) with Disabilities</strong> - sponsored by Partners in Employment<br />\n<br />\n<strong>Home Based Business</strong> - sponsored by The Co-operators<br />\n<br />\n<strong>2018 Member Business of the Year</strong></span>&nbsp\;- sponsored by the RBC Royal Bank&nbsp\;<br />\n<br />\n<strong>Citizen of the Year </strong>- co-sponsored by Sign Here &amp\; Community Futures Southwest<br />\n&nbsp\;</p>\n
LOCATION:Living Sky Casino Event Centre 1401 North Service Rd E Swift Current\, SK
UID:e.2016.253
SEQUENCE:3
DTSTAMP:20260423T105049Z
URL:http://business.swiftcurrentchamber.ca/events/details/scbex-10-18-2019-253
END:VEVENT

END:VCALENDAR
