BEGIN:VCALENDAR
VERSION:2.0
PRODID:-//ChamberMaster//Event Calendar 2.0//EN
METHOD:PUBLISH
X-PUBLISHED-TTL:P3D
REFRESH-INTERVAL:P3D
CALSCALE:GREGORIAN
BEGIN:VEVENT
DTSTART:20190629T220000Z
DTEND:20190630T000000Z
X-MICROSOFT-CDO-ALLDAYEVENT:FALSE
SUMMARY:Sausage on a bun
DESCRIPTION:Enjoy sausage on a bun at the Mennonite Heritage Village.  Enjoy tours of the village on Friday\, Saturday\, Sunday and holiday afternoons from 1-5 pm June 28th to September 2nd.
X-ALT-DESC;FMTTYPE=text/html:Enjoy sausage on a bun at the Mennonite Heritage Village.&nbsp\; Enjoy tours of the village on Friday\, Saturday\, Sunday and holiday afternoons from 1-5 pm June 28th to September 2nd.<br />\n&nbsp\;
LOCATION:Mennonite Heritage Village
UID:e.2016.3464
SEQUENCE:3
DTSTAMP:20260425T115841Z
URL:http://business.swiftcurrentchamber.ca/events/details/sausage-on-a-bun-3464
END:VEVENT

END:VCALENDAR
