BEGIN:VCALENDAR
VERSION:2.0
PRODID:-//ChamberMaster//Event Calendar 2.0//EN
METHOD:PUBLISH
X-PUBLISHED-TTL:P3D
REFRESH-INTERVAL:P3D
CALSCALE:GREGORIAN
BEGIN:VEVENT
DTSTART:20190905T170000Z
DTEND:20190905T193000Z
X-MICROSOFT-CDO-ALLDAYEVENT:FALSE
SUMMARY:SaskAbilites Awareness Week BBQ
DESCRIPTION:Join SaskAbilities Swift Current branch for the annual Awareness Week BBQ at Market Square from 11:00 - 1:30 pm.  $7 will get you a barbeque burger\, drink and chips.  All of this would not be possible without our amazing community partners and sponsors: Schimmel's Dutch Bakery\, Service Master\, Treen's Meats\, Co-op\, Diamond Energy Services\, City of Swift Current\, Golden West Radio\, Buffalo Brew Pub\, and Walker Place.  Entertainment will be provided by local favorites\, Bakersfield!
X-ALT-DESC;FMTTYPE=text/html:Join SaskAbilities Swift Current branch for the annual Awareness Week BBQ at Market Square from 11:00 - 1:30 pm.&nbsp\; $7 will get you a barbeque burger\, drink and chips.&nbsp\; All of this would not be possible without our amazing community partners and sponsors: Schimmel&#39\;s Dutch Bakery\, Service Master\, Treen&#39\;s Meats\, Co-op\, Diamond Energy Services\, City of Swift Current\, Golden West Radio\, Buffalo Brew Pub\, and Walker Place.&nbsp\; Entertainment will be provided by local favorites\, Bakersfield!
LOCATION:Market Square
UID:e.2016.3482
SEQUENCE:3
DTSTAMP:20260421T070429Z
URL:http://business.swiftcurrentchamber.ca/events/details/saskabilites-awareness-week-bbq-3482
END:VEVENT

END:VCALENDAR
