BEGIN:VCALENDAR
VERSION:2.0
PRODID:-//ChamberMaster//Event Calendar 2.0//EN
METHOD:PUBLISH
X-PUBLISHED-TTL:P3D
REFRESH-INTERVAL:P3D
CALSCALE:GREGORIAN
BEGIN:VEVENT
DTSTART:20190621T220000Z
DTEND:20190622T010000Z
X-MICROSOFT-CDO-ALLDAYEVENT:FALSE
SUMMARY:Riverview's Sunset Carnival
DESCRIPTION:Come one Come all to our Riverview Carnival! Enjoy popcorn .50 cents\, Ice Cream $1.00\, Carnival Games\, Live Music and Much More
X-ALT-DESC;FMTTYPE=text/html:Come one Come all to our Riverview Carnival! Enjoy popcorn .50 cents\, Ice Cream $1.00\, Carnival Games\, Live Music and Much More
LOCATION:Riverview Village Estates Great Room Patio 1101 2nd Ave SE Swift Current\, SK
UID:e.2016.3477
SEQUENCE:3
DTSTAMP:20260423T191550Z
URL:http://business.swiftcurrentchamber.ca/events/details/riverview-s-sunset-carnival-3477
END:VEVENT

END:VCALENDAR
