BEGIN:VCALENDAR
VERSION:2.0
PRODID:-//ChamberMaster//Event Calendar 2.0//EN
METHOD:PUBLISH
X-PUBLISHED-TTL:P3D
REFRESH-INTERVAL:P3D
CALSCALE:GREGORIAN
BEGIN:VEVENT
DTSTART:20190831T160000Z
DTEND:20190831T190000Z
X-MICROSOFT-CDO-ALLDAYEVENT:FALSE
SUMMARY:Parkinson Canada SuperWalk
DESCRIPTION:This September\, walk with us at Parkinson Canada SuperWalk - Canada's only nationwide fundraiser to support Canadian's with Parkinson's. With the same strength of spirit people living with Parkinson's demonstrate daily\, we will not stop walking until there is a cure. No Matter What. To register yourself or a team\, or to volunteer\, visit online at www.superwalk.ca or call 1-800-565-3000.
X-ALT-DESC;FMTTYPE=text/html:This September\, walk with us at Parkinson Canada SuperWalk - Canada&rsquo\;s only nationwide fundraiser to support Canadian&rsquo\;s with Parkinson&rsquo\;s. With the same strength of spirit people living with Parkinson&rsquo\;s demonstrate daily\, we will not stop walking until there is a cure. No Matter What. To register yourself or a team\, or to volunteer\, visit online at www.superwalk.ca or call 1-800-565-3000.
LOCATION:Riverview Village Estates 1101 2 Ave SE Swift Current\, SK S9H 5M6
UID:e.2016.3478
SEQUENCE:3
DTSTAMP:20260422T051126Z
URL:http://business.swiftcurrentchamber.ca/events/details/parkinson-canada-superwalk-3478
END:VEVENT

END:VCALENDAR
