BEGIN:VCALENDAR
VERSION:2.0
PRODID:-//ChamberMaster//Event Calendar 2.0//EN
METHOD:PUBLISH
X-PUBLISHED-TTL:P3D
REFRESH-INTERVAL:P3D
CALSCALE:GREGORIAN
BEGIN:VEVENT
DTSTART:20251203T133000Z
DTEND:20251203T150000Z
X-MICROSOFT-CDO-ALLDAYEVENT:FALSE
SUMMARY:Meet the CAO
DESCRIPTION:You are invited to a come and go coffee event to meet the new City of Swift Current CAO\, Kyle Attanasio. This is a casual opportunity for members of the business community to connect\, ask questions\, and welcome Kyle to his new role.\n\nThe event is free to attend\, no registration required\, and coffee and pastries will be provided.\n\n\n\nHosted by the Swift Current and District Chamber of Commerce.\n\nIf you have any questions please call the Chamber Office at 306-773-7268
X-ALT-DESC;FMTTYPE=text/html:You are invited to a come and go coffee event to meet the new City of Swift Current CAO\, <strong><span style="font-family:aptos\,sans-serif\;">Kyle Attanasio</span></strong>. This is a casual opportunity for members of the business community to connect\, ask questions\, and welcome Kyle to his new role.<br />\nThe event is <strong><span style="font-family:aptos\,sans-serif\;">free to attend</span></strong>\, <strong><span style="font-family:aptos\,sans-serif\;">no registration required</span></strong>\, and <strong><span style="font-family:aptos\,sans-serif\;">coffee and pastries will be provided</span></strong>.<br />\n<br />\nHosted by the <strong><span style="font-family:aptos\,sans-serif\;">Swift Current and District Chamber of Commerce</span></strong>.<br />\nIf you have any questions please call the Chamber Office at 306-773-7268
LOCATION:Location: Innovation Federal Credit Union Building (Community Room in the basement) 198 1 Ave NE\, Swift Current Please come to the South Entrance of the Credit Union and take the elevator to the Community Room in the basement. Signs will be posted.
UID:e.2016.3803
SEQUENCE:3
DTSTAMP:20260423T091335Z
URL:http://business.swiftcurrentchamber.ca/events/details/meet-the-cao-3803
END:VEVENT

END:VCALENDAR
