BEGIN:VCALENDAR
VERSION:2.0
PRODID:-//ChamberMaster//Event Calendar 2.0//EN
METHOD:PUBLISH
X-PUBLISHED-TTL:P3D
REFRESH-INTERVAL:P3D
CALSCALE:GREGORIAN
BEGIN:VEVENT
DTSTART:20190413T233000Z
DTEND:20190414T043000Z
X-MICROSOFT-CDO-ALLDAYEVENT:FALSE
SUMMARY:Lobsterfest 2019
DESCRIPTION:Join the Rotary and Kiwanis clubs for a lobster and steak feast and help the many community projects these two clubs support. $75 ticket includes a choice of steak or fresh lobster meal (or $100 for both)\, with a charitable receipt for a portion of the cost. Live entertainment by "Creek City"\, cash bar\, silent auction\, 50/50 and more! Email lobsterfestrk@shaw.ca for tickets or call Theressa at 306-778-2117 or Chad at 306-778-6611.
X-ALT-DESC;FMTTYPE=text/html:Join the Rotary and Kiwanis clubs for a lobster and steak feast and help the many community projects these two clubs support. $75 ticket includes a choice of steak or fresh lobster meal (or $100 for both)\, with a charitable receipt for a portion of the cost. Live entertainment by &quot\;Creek City&quot\;\, cash bar\, silent auction\, 50/50 and more! Email lobsterfestrk@shaw.ca for tickets or call Theressa at 306-778-2117 or Chad at 306-778-6611.<br />\n&nbsp\;
LOCATION:Swift Current Comp High School Cafetorium 1100 11th Ave NE
UID:e.2016.3454
SEQUENCE:3
DTSTAMP:20260423T113634Z
URL:http://business.swiftcurrentchamber.ca/events/details/lobsterfest-2019-3454
END:VEVENT

END:VCALENDAR
