BEGIN:VCALENDAR
VERSION:2.0
PRODID:-//ChamberMaster//Event Calendar 2.0//EN
METHOD:PUBLISH
X-PUBLISHED-TTL:P3D
REFRESH-INTERVAL:P3D
CALSCALE:GREGORIAN
BEGIN:VEVENT
DTSTART;VALUE=DATE:20190209
DTEND;VALUE=DATE:20190210
TRANSP:TRANSPARENT
X-MICROSOFT-CDO-ALLDAYEVENT:TRUE
SUMMARY:Hockey Day in Canada
DESCRIPTION:
X-ALT-DESC;FMTTYPE=text/html:
LOCATION:
UID:e.2016.3442
SEQUENCE:3
DTSTAMP:20260424T100826Z
URL:http://business.swiftcurrentchamber.ca/events/details/hockey-day-in-canada-3442
END:VEVENT

END:VCALENDAR
