BEGIN:VCALENDAR
VERSION:2.0
PRODID:-//ChamberMaster//Event Calendar 2.0//EN
METHOD:PUBLISH
X-PUBLISHED-TTL:P3D
REFRESH-INTERVAL:P3D
CALSCALE:GREGORIAN
BEGIN:VEVENT
DTSTART:20190626T180000Z
DTEND:20190629T180000Z
X-MICROSOFT-CDO-ALLDAYEVENT:FALSE
SUMMARY:Frontier Days Fair & Rodeo
DESCRIPTION:
X-ALT-DESC;FMTTYPE=text/html:
LOCATION:
UID:e.2016.3449
SEQUENCE:3
DTSTAMP:20260424T035919Z
URL:http://business.swiftcurrentchamber.ca/events/details/frontier-days-fair-rodeo-3449
END:VEVENT

END:VCALENDAR
