BEGIN:VCALENDAR
VERSION:2.0
PRODID:-//ChamberMaster//Event Calendar 2.0//EN
METHOD:PUBLISH
X-PUBLISHED-TTL:P3D
REFRESH-INTERVAL:P3D
CALSCALE:GREGORIAN
BEGIN:VEVENT
DTSTART:20181113T230000Z
DTEND:20181114T010000Z
X-MICROSOFT-CDO-ALLDAYEVENT:FALSE
SUMMARY:Chamber on Tap & Uncorked - TD
DESCRIPTION:Meet the TD Team that is ready to help your personal and business banking needs in Swift Current and the surrounding area.\n\nRetail Banking\n\nFinancial Planning\n\nPrivate Wealth Management\n\nSmall Business Banking\n\nAgriculture Services\n\nCommercial Banking\n\n\n\nPlease register in advance to secure your spot.  We look forward to seeing you there!
X-ALT-DESC;FMTTYPE=text/html:Meet the TD Team that is ready to help your personal and business banking needs in Swift Current and the surrounding area.<br />\nRetail Banking<br />\nFinancial Planning<br />\nPrivate Wealth Management<br />\nSmall Business Banking<br />\nAgriculture Services<br />\nCommercial Banking<br />\n<br />\nPlease register in advance to secure your spot.&nbsp\; We look forward to seeing you there!
LOCATION:Akropol Family Restaurant & Lounge Next Door Cocktail Lounge 133 Central Ave N Swift Current
UID:e.2016.3433
SEQUENCE:3
DTSTAMP:20260425T105105Z
URL:http://business.swiftcurrentchamber.ca/events/details/chamber-on-tap-uncorked-td-3433
END:VEVENT

END:VCALENDAR
