BEGIN:VCALENDAR
VERSION:2.0
PRODID:-//ChamberMaster//Event Calendar 2.0//EN
METHOD:PUBLISH
X-PUBLISHED-TTL:P3D
REFRESH-INTERVAL:P3D
CALSCALE:GREGORIAN
BEGIN:VEVENT
DTSTART:20191127T230000Z
DTEND:20191128T010000Z
X-MICROSOFT-CDO-ALLDAYEVENT:FALSE
SUMMARY:Chamber Cafe - Blue Moose Media
DESCRIPTION:***MEMBER EXCLUSIVE***\n\n\n\nTop 5 Tips for Marketing Your Business on Social Media\n\n\n\nPresentation Description \n\nSocial media and digital marketing provide cost-effective\, highly targeted\, measurable opportunities to engage your audience and promote your business. Get out your notepad you'll want to remember these tips from experts Travis Low and Ricky Forbes as they show you how to:\n\n\n\n  determine which social media platforms your audience is using\n\n  plan and schedule great content\n\n  achieve strong imagery and visuals\n\n  write in a way that captures attention\n\n  grow your audience to help meet your business objectives
X-ALT-DESC;FMTTYPE=text/html:***MEMBER EXCLUSIVE***<br />\n<br />\nTop 5 Tips for Marketing Your Business on Social Media<br />\n<br />\n<strong>Presentation Description </strong><br />\n<span style="color:#333333\;"><span style="font-family:arial\,sans-serif\;">Social media and digital marketing provide cost-effective\, highly targeted\, measurable opportunities to engage your audience and promote your business. Get out your notepad&mdash\;you&rsquo\;ll want to remember these tips from experts Travis Low and Ricky Forbes as they show you how to:</span></span><br />\n<br />\n<span style="color:#333333\;"><span style="font-family:arial\,sans-serif\;">&bull\; determine which social media platforms your audience is using<br />\n&bull\; plan and schedule great content<br />\n&bull\; achieve strong imagery and visuals<br />\n&bull\; write in a way that captures attention<br />\n&bull\; grow your audience to help meet your business objectives</span></span>
LOCATION:Great Plains College Cafeteria 129 2nd Ave NE
UID:e.2016.3501
SEQUENCE:3
DTSTAMP:20260420T025105Z
URL:http://business.swiftcurrentchamber.ca/events/details/chamber-cafe-blue-moose-media-3501
END:VEVENT

END:VCALENDAR
