BEGIN:VCALENDAR
VERSION:2.0
PRODID:-//ChamberMaster//Event Calendar 2.0//EN
METHOD:PUBLISH
X-PUBLISHED-TTL:P3D
REFRESH-INTERVAL:P3D
CALSCALE:GREGORIAN
BEGIN:VEVENT
DTSTART:20181119T233000Z
DTEND:20181120T030000Z
X-MICROSOFT-CDO-ALLDAYEVENT:FALSE
SUMMARY:Business Connect Banquet
DESCRIPTION:This is a Chamber initiative to connect local business leaders with developing entrepreneurs from the SCCHS and Great Plains College.  It also provides an opportunity for future business leaders to learn from professionals in their area of expertise.
X-ALT-DESC;FMTTYPE=text/html:This is a Chamber initiative&nbsp\;to connect local business leaders with developing entrepreneurs from the SCCHS and Great Plains College.&nbsp\; It also provides an opportunity for future business leaders to learn from professionals in their area of expertise.
LOCATION:Christ the Redeemer Hall 1850 Springs Gate\, Swift Current\, SK
UID:e.2016.3432
SEQUENCE:3
DTSTAMP:20260425T165619Z
URL:http://business.swiftcurrentchamber.ca/events/details/business-connect-banquet-3432
END:VEVENT

END:VCALENDAR
