BEGIN:VCALENDAR
VERSION:2.0
PRODID:-//ChamberMaster//Event Calendar 2.0//EN
METHOD:PUBLISH
X-PUBLISHED-TTL:P3D
REFRESH-INTERVAL:P3D
CALSCALE:GREGORIAN
BEGIN:VEVENT
DTSTART:20191011T003000Z
DTEND:20191011T023000Z
X-MICROSOFT-CDO-ALLDAYEVENT:FALSE
SUMMARY:All Candidates Forum 2019
DESCRIPTION:All Candidates Forum 2019 will be taking place on Thursday\, October 10th at the Living Sky Casino Event Centre. Doors open at 6:30pm and the Forum will begin at 7:00pm with a question period following. Come out and meet your local candidates to make an informed decision in the upcoming Federal Election.\n\n\n\nLive stream available HERE.\n\nor on YouTube\n\n\n\nCandidates running in the Cypress Hills - Grasslands Constituency are:\n\n\n\nWilliam Caton - Liberal Party of Canada\n\nBill Clary - Green Party of Canada\n\nLee Harding - People's Party of Canada\n\nMaria Lewans - Independent\n\nJeremy Patzer - Conservative Party of Canada\n\nTrevor Peterson - New Democratic Party
X-ALT-DESC;FMTTYPE=text/html:<span style="color: rgb(29\, 33\, 41)\; font-family: Helvetica\, Arial\, sans-serif\; font-size: 14px\; white-space: pre-wrap\; background-color: rgb(255\, 255\, 255)\;">All Candidates Forum 2019 will be taking place on Thursday\, October 10th at the Living Sky Casino Event Centre. Doors open at 6:30pm and the Forum will begin at 7:00pm with a question period following. Come out and meet your local candidates to make an informed decision in the upcoming Federal Election.<br />\n<br />\nLive stream available <span style="font-size:22px\;"><a href="https://boxcast.tv/view/2019-all-candidates-forum-for-cypress-hills-grasslands-951000">HERE.</a></span><br />\nor on <span style="font-size:22px\;"><a href="https://youtu.be/TO14dHskH40">YouTube</a></span></span><br style="color: rgb(29\, 33\, 41)\; font-family: Helvetica\, Arial\, sans-serif\; font-size: 14px\; white-space: pre-wrap\;" />\n<br style="color: rgb(29\, 33\, 41)\; font-family: Helvetica\, Arial\, sans-serif\; font-size: 14px\; white-space: pre-wrap\;" />\n<span style="color: rgb(29\, 33\, 41)\; font-family: Helvetica\, Arial\, sans-serif\; font-size: 14px\; white-space: pre-wrap\;">Candidates running in the Cypress Hills - Grasslands Constituency are:</span><br />\n<br style="color: rgb(29\, 33\, 41)\; font-family: Helvetica\, Arial\, sans-serif\; font-size: 14px\; white-space: pre-wrap\;" />\n<span style="color: rgb(29\, 33\, 41)\; font-family: Helvetica\, Arial\, sans-serif\; font-size: 14px\; white-space: pre-wrap\;">William</span><span style="color: rgb(29\, 33\, 41)\; font-family: Helvetica\, Arial\, sans-serif\; font-size: 14px\; white-space: pre-wrap\; background-color: rgb(255\, 255\, 255)\;"> Caton - Liberal Party of Canada<br />\nBill Clary - Green Party of Canada<br />\nLee Harding - People&#39\;s Party of Canada<br />\nMaria Lewans - Independent<br />\nJeremy Patzer - Conservative Party of Canada<br />\nTrevor Peterson - New Democratic Party</span><br />\n<br />\n&nbsp\;
LOCATION:Living Sky Casino Event Centre 1401 North Service Road East Swift Current\, SK
UID:e.2016.3497
SEQUENCE:3
DTSTAMP:20260421T234544Z
URL:http://business.swiftcurrentchamber.ca/events/details/all-candidates-forum-2019-3497
END:VEVENT

END:VCALENDAR
