BEGIN:VCALENDAR
VERSION:2.0
PRODID:-//ChamberMaster//Event Calendar 2.0//EN
METHOD:PUBLISH
X-PUBLISHED-TTL:P3D
REFRESH-INTERVAL:P3D
CALSCALE:GREGORIAN
BEGIN:VEVENT
DTSTART:20260119T160000Z
DTEND:20260119T220000Z
X-MICROSOFT-CDO-ALLDAYEVENT:FALSE
SUMMARY:AI Productivity Seminar with Randy Klassen
DESCRIPTION:AI Productivity Workshops on January 19\n\n\n\nThe Swift Current and District Chamber of Commerce is hosting AI Learning led by Randy Klassen\, CFRE. Randy specializes in helping organizations use AI to improve productivity\, streamline workflows\, and reduce day-to-day workload.\n\n\n\nThe morning session\, held from 10:00am - 1:00pm\, will introduce practical AI skills that professionals can use immediately. Participants will see how tools like Copilot\, ChatGPT\, and Gemini can simplify tasks such as emails\, reports\, research\, and planning.\nThe afternoon workshop \, held from 12:00pm - 4:00pm\, is hands-on and focused on real application. Attendees are encouraged to bring their laptops and actual work projects. Randy will guide participants through setting up files\, building stronger prompts\, and applying AI to documents and processes from their own organizations. Space is limited to keep it interactive.\nParticipants will learn\n\n  Practical AI tools that support daily work\n\n  How to prepare and load documents for better results\n\n  Techniques for writing clear\, effective prompts\n\n  How to apply AI to HR manuals\, board minutes\, grant writing\, and operational workflows\n\n  Ways to reduce repetitive work and increase organizational efficiency\n\n\nTo register for this event\, please email ceo@swiftcurrentchamber.ca.\n\n\n\nWhen registering\, please indicate whether you are signing up for the morning session\, afternoon session\, or the full-day option.\n\nRegistration is first-come\, first-served\n\n  Morning session capacity: 50 participants\n\n  Afternoon session capacity: 30 participants (smaller group for enhanced coaching)\nRegistration Fees (Lunch included):\n\n  Chamber Members: $25.00 per session\n\n  Potential Members: $250.00 per session\n\n\n\nPlease note: Potential Members will be placed on a waitlist\, as Chamber Members receive priority registration. \n\n\n\nFor more information\, please call the Chamber office at (306) 773-7268.
X-ALT-DESC;FMTTYPE=text/html:<br />\n<strong><span style="font-size:16px\;">AI Productivity Workshops on January 19</span></strong><br />\n<br />\nThe Swift Current and District Chamber of Commerce is hosting <strong>AI Learning</strong> led by Randy Klassen\, CFRE. Randy specializes in helping organizations use AI to improve productivity\, streamline workflows\, and reduce day-to-day workload.<br />\n<br />\n<strong>The morning session</strong>\, held from 10:00am - 1:00pm\,&nbsp\;will introduce practical AI skills that professionals can use immediately. Participants will see how tools like Copilot\, ChatGPT\, and Gemini can simplify tasks such as emails\, reports\, research\, and planning.\n<p><strong>The afternoon workshop</strong>&#8203\;\, held from 12:00pm - 4:00pm\,&nbsp\;is hands-on and focused on real application. Attendees are encouraged to bring their laptops and actual work projects. Randy will guide participants through setting up files\, building stronger prompts\, and applying AI to documents and processes from their own organizations. Space is limited to keep it interactive.<o:p></o:p></p>\n<strong>Participants will learn</strong><br />\n&bull\; Practical AI tools that support daily work<br />\n&bull\; How to prepare and load documents for better results<br />\n&bull\; Techniques for writing clear\, effective prompts<br />\n&bull\; How to apply AI to HR manuals\, board minutes\, grant writing\, and operational workflows<br />\n&bull\; Ways to reduce repetitive work and increase organizational efficiency\n<p data-end="299" data-start="80"><br />\n<strong>To register for this event\, please email&nbsp\;</strong>ceo@swiftcurrentchamber.ca.<br />\n<br />\nWhen registering\, please indicate whether you are signing up for the <strong data-end="247" data-start="228">morning session</strong>\, <strong data-end="270" data-start="249">afternoon session</strong>\, or the <strong data-end="298" data-start="279">full-day option</strong>.</p>\n\n<p data-end="348" data-start="301"><strong>Registration is first-come\, first-served</strong><br />\n&bull\; Morning session capacity:&nbsp\;<strong>50 participants</strong><br />\n&bull\; Afternoon session capacity:&nbsp\;<strong>30 participants</strong>&nbsp\;(smaller group for enhanced coaching)</p>\n<strong>Registration Fees (Lunch included):</strong><br />\n&bull\;&nbsp\;<strong>Chamber Members:&nbsp\;</strong>$25.00 per session<br />\n&bull\;&nbsp\;<strong>Potential Members:</strong>&nbsp\;$250.00 per session<br />\n<br />\n<em>Please note: Potential Members will be placed on a waitlist\, as Chamber Members receive priority registration.&nbsp\;</em><br />\n<br />\nFor more information\, please call the Chamber office at (306) 773-7268.
LOCATION:Living Sky Casino Event Centre 1401 North Service Road E Swift Current\, SK
UID:e.2016.3804
SEQUENCE:3
DTSTAMP:20260423T091706Z
URL:http://business.swiftcurrentchamber.ca/events/details/ai-productivity-seminar-with-randy-klassen-3804
END:VEVENT

END:VCALENDAR
