BEGIN:VCALENDAR
VERSION:2.0
PRODID:-//ChamberMaster//Event Calendar 2.0//EN
METHOD:PUBLISH
X-PUBLISHED-TTL:P3D
REFRESH-INTERVAL:P3D
CALSCALE:GREGORIAN
BEGIN:VEVENT
DTSTART:20190428T020000Z
DTEND:20190428T050000Z
X-MICROSOFT-CDO-ALLDAYEVENT:FALSE
SUMMARY:Ability Bowl Cabaret
DESCRIPTION:Join us on April 27th at Walker Place at 8:00pm for a free dance to celebrate the 32nd Annual AbilityBowl - RodeoBowl! This is a fun-filled family event with live performance by Laureen Kress & South Wind with Earl Harder. Grab your friends\, family or your neighbour and celebrate this great community event! Yeehaw!!
X-ALT-DESC;FMTTYPE=text/html:<span style="background:white\;"><span style="color:#484848\;"><span style="font-family:helvetica\,sans-serif\;"><span style="font-size:10.5pt\;">Join us on April 27th at Walker Place at 8:00pm for a free dance to celebrate the 32nd Annual AbilityBowl - RodeoBowl! This is a fun-filled family event with live performance by Laureen Kress &amp\; South Wind with Earl Harder. Grab your friends\, family or your neighbour and celebrate this great community event! Yeehaw!!</span></span></span></span>
LOCATION:Walker Place 2150 Walker St Swift Current
UID:e.2016.3469
SEQUENCE:3
DTSTAMP:20260423T135110Z
URL:http://business.swiftcurrentchamber.ca/events/details/ability-bowl-cabaret-3469
END:VEVENT

END:VCALENDAR
