BEGIN:VCALENDAR
VERSION:2.0
PRODID:-//ChamberMaster//Event Calendar 2.0//EN
METHOD:PUBLISH
X-PUBLISHED-TTL:P3D
REFRESH-INTERVAL:P3D
CALSCALE:GREGORIAN
BEGIN:VEVENT
DTSTART:20250610T230000Z
DTEND:20250611T030000Z
X-MICROSOFT-CDO-ALLDAYEVENT:FALSE
SUMMARY:9 Innings of Networking
DESCRIPTION:9 Innings of Networking   Tailgate Style!   \n\nJoin us for an evening of connections\, community\, and baseball!\n\nFor just $30\, you'll get:\n\n  Admission to the game\n\n  A juicy Cheeseburger or Hamburger\n\n  A Beverage of your choice\n\n  10% off Swift Current 57's merchandise\n\nLet's mix business with ballpark vibes   don't miss out on this home run of a night!\n\n   Limited spots available   get your tickets online or call the office to register today!
X-ALT-DESC;FMTTYPE=text/html:<p data-end="213" data-start="95"><br />\n<br />\n&#9918\; <strong data-end="142" data-start="97">9 Innings of Networking &ndash\; Tailgate Style!</strong> &#127828\;&#129380\;<br data-end="150" data-start="147" />\nJoin us for an evening of connections\, community\, and baseball!</p>\n\n<p data-end="387" data-start="215">For just <strong data-end="231" data-start="224">$30</strong>\, you&rsquo\;ll get:<br data-end="247" data-start="244" />\n&#9989\; Admission to the game<br data-end="273" data-start="270" />\n&#9989\; A juicy Cheeseburger or Hamburger<br data-end="311" data-start="308" />\n&#9989\; A Beverage of your choice<br data-end="341" data-start="338" />\n&#9989\; <strong data-end="354" data-start="343">10% off</strong> Swift Current 57&rsquo\;s merchandise</p>\n\n<p data-end="475" data-start="389">Let&rsquo\;s mix business with ballpark vibes &ndash\; don&rsquo\;t miss out on this home run of a night!</p>\n\n<p data-end="561" data-start="477">&#127903\;&#65039\; Limited spots available &ndash\; get your tickets online or call the office to register today!<br />\n<br />\n&nbsp\;</p>\n
LOCATION:Mitchell Field 19th Avenue NE
UID:e.2016.3793
SEQUENCE:3
DTSTAMP:20260423T234128Z
URL:http://business.swiftcurrentchamber.ca/events/details/9-innings-of-networking-3793
END:VEVENT

END:VCALENDAR
