BEGIN:VCALENDAR
VERSION:2.0
PRODID:-//ChamberMaster//Event Calendar 2.0//EN
METHOD:PUBLISH
X-PUBLISHED-TTL:P3D
REFRESH-INTERVAL:P3D
CALSCALE:GREGORIAN
BEGIN:VEVENT
DTSTART:20190809T180000Z
DTEND:20190818T180000Z
X-MICROSOFT-CDO-ALLDAYEVENT:FALSE
SUMMARY:2019 Western Canada Summer Games
DESCRIPTION:
X-ALT-DESC;FMTTYPE=text/html:
LOCATION:
UID:e.2016.3452
SEQUENCE:3
DTSTAMP:20260422T005906Z
URL:http://business.swiftcurrentchamber.ca/events/details/2019-western-canada-summer-games-3452
END:VEVENT

END:VCALENDAR
