BEGIN:VCALENDAR
VERSION:2.0
PRODID:-//ChamberMaster//Event Calendar 2.0//EN
METHOD:PUBLISH
X-PUBLISHED-TTL:P3D
REFRESH-INTERVAL:P3D
CALSCALE:GREGORIAN
BEGIN:VEVENT
DTSTART;VALUE=DATE:20190427
DTEND;VALUE=DATE:20190428
TRANSP:TRANSPARENT
X-MICROSOFT-CDO-ALLDAYEVENT:TRUE
SUMMARY:2019 AbilityBowl - RodeoBowl
DESCRIPTION:For over 50 years\, SaskAbilities has been serving the province of Saskatchewan by supporting individuals experiencing disability with programs and services to enhance their lives. In the Swift Current Region\, Ability Bowl is an annual event hosted by SaskAbilities! This year\, on April 27\, 2019\, more than 30 teams will dress in rodeo themed attire and gather at the local bowling alley in support of SaskAbilities and Easter Seals Saskatchewan. Grab your family\, friends\, coworkers or neighbours and form a bowling team! Dust off your cowboy hat and bowling shoes and gather pledges leading up to Ability Bowl. Enjoy a fun-filled day of bowling and then finish it off with a banquet which includes prizes for many of our bowlers as well as live music! You can register your team online or donate to the event by visiting www.abilitybowl.ca\, it's a quick and easy way to reach your contacts by email or social media to invite them to support you by donating.
X-ALT-DESC;FMTTYPE=text/html:For over 50 years\, SaskAbilities has been serving the province of Saskatchewan by supporting individuals experiencing disability with programs and services to enhance their lives. In the Swift Current Region\, Ability Bowl is an annual event hosted by SaskAbilities! This year\, on April 27\, 2019\, more than 30 teams will dress in rodeo themed attire and gather at the local bowling alley in support of SaskAbilities and Easter Seals Saskatchewan. Grab your family\, friends\, coworkers or neighbours and form a bowling team! Dust off your cowboy hat and bowling shoes and gather pledges leading up to Ability Bowl. Enjoy a fun-filled day of bowling and then finish it off with a banquet which includes prizes for many of our bowlers as well as live music! You can register your team online or donate to the event by visiting www.abilitybowl.ca\, it&rsquo\;s a quick and easy way to reach your contacts by email or social media to invite them to support you by donating.
LOCATION:Frontier Bowling Lanes\, Swift Current Banquet at Walker Place\, Swift Current
UID:e.2016.3459
SEQUENCE:3
DTSTAMP:20260423T101959Z
URL:http://business.swiftcurrentchamber.ca/events/details/2019-abilitybowl-rodeobowl-3459
END:VEVENT

END:VCALENDAR
